BEGIN:VCALENDAR
VERSION:2.0
CALSCALE:GREGORIAN
PRODID:-//Diputació de Barcelona//DibaCMS//EN
BEGIN:VEVENT
UID:4369
DTSTAMP:20260422T151940
DTSTART:20260422T190000
DTEND:20260422T210000
SUMMARY:Taller de roses de Sant Jordi
LOCATION:Avinguda Atlàntida, 38 08519 Folgueroles
METHOD:PUBLISH
X-WR-CALNAME:folgueroles@folgueroles.cat
X-WR-TIMEZONE:Europe/Madrid
DESCRIPTION:Crea la teva rosa amb materials reciclats 

URI:https://www.folgueroles.cat/actualitat/agenda/taller-de-roses-de-sant-jordi.html
CLASS:PUBLIC
END:VEVENT
END:VCALENDAR
