BEGIN:VCALENDAR
VERSION:2.0
CALSCALE:GREGORIAN
PRODID:-//Diputació de Barcelona//DibaCMS//EN
BEGIN:VEVENT
UID:4356
DTSTAMP:20260424T113625
DTSTART:20260430T100000
DTEND:20260430T120000
SUMMARY:Busques feina? 
LOCATION:Plaça Verdaguer 2 08519 Folgueroles
METHOD:PUBLISH
X-WR-CALNAME:folgueroles@folgueroles.cat
X-WR-TIMEZONE:Europe/Madrid
DESCRIPTION:El servei local d'ocupació organitza una xerrada per ajudar-te

URI:https://www.folgueroles.cat/actualitat/agenda/busques-feina-.html
CLASS:PUBLIC
END:VEVENT
END:VCALENDAR
