BEGIN:VCALENDAR
VERSION:2.0
CALSCALE:GREGORIAN
PRODID:-//Diputació de Barcelona//DibaCMS//EN
BEGIN:VEVENT
UID:4227
DTSTAMP:20260426T025152
DTSTART:20260215T114500
DTEND:20260215T130000
SUMMARY:Festa dels Tonis
LOCATION:Pels carrers del poble  
METHOD:PUBLISH
X-WR-CALNAME:folgueroles@folgueroles.cat
X-WR-TIMEZONE:Europe/Madrid
DESCRIPTION:El Passant començarà a la Fàbrica i es faran tres benediccions

URI:https://www.folgueroles.cat/actualitat/agenda/4227-festa-dels-tonis.html
CLASS:PUBLIC
END:VEVENT
END:VCALENDAR
