BEGIN:VCALENDAR
VERSION:2.0
CALSCALE:GREGORIAN
PRODID:-//Diputació de Barcelona//DibaCMS//EN
BEGIN:VEVENT
UID:4225
DTSTAMP:20260426T041701
DTSTART:20260222T180000
DTEND:20260222T190000
SUMMARY:Teatre: La font dels desitjos
LOCATION:Carrer Nou 15 08519 Folgueroles
METHOD:PUBLISH
X-WR-CALNAME:folgueroles@folgueroles.cat
X-WR-TIMEZONE:Europe/Madrid
DESCRIPTION:Espectacle de Commedia dell'arte amb Abel Cobos

URI:https://www.folgueroles.cat/actualitat/agenda/teatre-la-font-dels-desitjos.html
CLASS:PUBLIC
END:VEVENT
END:VCALENDAR
