BEGIN:VCALENDAR
VERSION:2.0
CALSCALE:GREGORIAN
PRODID:-//Diputació de Barcelona//DibaCMS//EN
BEGIN:VEVENT
UID:4216
DTSTAMP:20260426T012431
DTSTART:20260904T010000
DTEND:20260914T235000
SUMMARY:Festa Major 2026
LOCATION:
METHOD:PUBLISH
X-WR-CALNAME:folgueroles@folgueroles.cat
X-WR-TIMEZONE:Europe/Madrid
DESCRIPTION:
URI:https://www.folgueroles.cat/actualitat/agenda/festa-major-2026.html
CLASS:PUBLIC
END:VEVENT
END:VCALENDAR
