BEGIN:VCALENDAR
VERSION:2.0
CALSCALE:GREGORIAN
PRODID:-//Diputació de Barcelona//DibaCMS//EN
BEGIN:VEVENT
UID:4215
DTSTAMP:20260424T170550
DTSTART:20260516T000000
DTEND:20260524T235500
SUMMARY:Festa Verdaguer 2026
LOCATION:
METHOD:PUBLISH
X-WR-CALNAME:folgueroles@folgueroles.cat
X-WR-TIMEZONE:Europe/Madrid
DESCRIPTION:
URI:https://www.folgueroles.cat/actualitat/agenda/festa-verdaguer-2026.html
CLASS:PUBLIC
END:VEVENT
END:VCALENDAR
