BEGIN:VCALENDAR
VERSION:2.0
CALSCALE:GREGORIAN
PRODID:-//Diputació de Barcelona//DibaCMS//EN
BEGIN:VEVENT
UID:4214
DTSTAMP:20260426T035836
DTSTART:20260525T000500
DTEND:20260525T235500
SUMMARY:25 de maig, Festa Local
LOCATION:
METHOD:PUBLISH
X-WR-CALNAME:folgueroles@folgueroles.cat
X-WR-TIMEZONE:Europe/Madrid
DESCRIPTION:
URI:https://www.folgueroles.cat/actualitat/agenda/25-de-maig-festa-local.html
CLASS:PUBLIC
END:VEVENT
END:VCALENDAR
