BEGIN:VCALENDAR
VERSION:2.0
CALSCALE:GREGORIAN
PRODID:-//Diputació de Barcelona//DibaCMS//EN
BEGIN:VEVENT
UID:4213
DTSTAMP:20260426T012143
DTSTART:20260914T010000
DTEND:20260914T234500
SUMMARY:14 de setembre, Festa Local
LOCATION:
METHOD:PUBLISH
X-WR-CALNAME:folgueroles@folgueroles.cat
X-WR-TIMEZONE:Europe/Madrid
DESCRIPTION:
URI:https://www.folgueroles.cat/actualitat/agenda/14-de-setembre-festa-local.html
CLASS:PUBLIC
END:VEVENT
END:VCALENDAR
