BEGIN:VCALENDAR
VERSION:2.0
CALSCALE:GREGORIAN
PRODID:-//Diputació de Barcelona//DibaCMS//EN
BEGIN:VEVENT
UID:4212
DTSTAMP:20260426T013006
DTSTART:20261004T100000
DTEND:20261004T130000
SUMMARY:26è Cap de Setmana Ibèric al Casol de Puigcastellet
LOCATION:08519 Folgueroles
METHOD:PUBLISH
X-WR-CALNAME:folgueroles@folgueroles.cat
X-WR-TIMEZONE:Europe/Madrid
DESCRIPTION:
URI:https://www.folgueroles.cat/actualitat/agenda/26e-cap-de-setmana-iberic-al-casol-de-puigcastellet.html
CLASS:PUBLIC
END:VEVENT
END:VCALENDAR
