BEGIN:VCALENDAR
VERSION:2.0
CALSCALE:GREGORIAN
PRODID:-//Diputació de Barcelona//DibaCMS//EN
BEGIN:VEVENT
UID:4006
DTSTAMP:20260425T155213
DTSTART:20250623T210000
DTEND:20250623T230000
SUMMARY:Revetlla de Sant Joan
LOCATION:Plaça dels Picapedrers 
METHOD:PUBLISH
X-WR-CALNAME:folgueroles@folgueroles.cat
X-WR-TIMEZONE:Europe/Madrid
DESCRIPTION:Rebuda de la Flama del Canigó i foguera de Sant Joan

URI:https://www.folgueroles.cat/actualitat/agenda/4006-revetlla-de-sant-joan.html
CLASS:PUBLIC
END:VEVENT
END:VCALENDAR
